Package: MethTargetedNGS Version: 1.36.0 Command: chmod a+r MethTargetedNGS -R && F:\biocbuild\bbs-3.19-bioc\R\bin\R.exe CMD build --keep-empty-dirs --no-resave-data MethTargetedNGS StartedAt: 2024-06-26 19:57:52 -0400 (Wed, 26 Jun 2024) EndedAt: 2024-06-26 19:58:23 -0400 (Wed, 26 Jun 2024) EllapsedTime: 30.7 seconds RetCode: 0 Status: OK PackageFile: MethTargetedNGS_1.36.0.tar.gz PackageFileSize: 130.8 KiB