Package: MethTargetedNGS Version: 1.36.0 Command: rm -rf MethTargetedNGS.buildbin-libdir && mkdir MethTargetedNGS.buildbin-libdir && F:\biocbuild\bbs-3.19-bioc\R\bin\R.exe CMD INSTALL --build --library=MethTargetedNGS.buildbin-libdir MethTargetedNGS_1.36.0.tar.gz StartedAt: 2024-06-27 08:29:12 -0400 (Thu, 27 Jun 2024) EndedAt: 2024-06-27 08:29:32 -0400 (Thu, 27 Jun 2024) EllapsedTime: 19.9 seconds RetCode: 0 Status: OK PackageFile: MethTargetedNGS_1.36.0.zip PackageFileSize: 175.1 KiB