Package: MethTargetedNGS Version: 1.36.0 Command: /Library/Frameworks/R.framework/Resources/bin/R CMD build --keep-empty-dirs --no-resave-data MethTargetedNGS StartedAt: 2024-10-16 20:43:53 -0400 (Wed, 16 Oct 2024) EndedAt: 2024-10-16 20:44:57 -0400 (Wed, 16 Oct 2024) EllapsedTime: 64.0 seconds RetCode: 0 Status: OK PackageFile: MethTargetedNGS_1.36.0.tar.gz PackageFileSize: 282.5 KiB