Package: MethTargetedNGS Version: 1.36.0 Command: /home/biocbuild/R/R-beta-2024-04-15_r86425/bin/R CMD check --install=check:MethTargetedNGS.install-out.txt --library=/home/biocbuild/R/R-beta-2024-04-15_r86425/site-library --no-vignettes --timings MethTargetedNGS_1.36.0.tar.gz StartedAt: 2024-05-09 09:15:20 -0000 (Thu, 09 May 2024) EndedAt: 2024-05-09 09:17:17 -0000 (Thu, 09 May 2024) EllapsedTime: 117.2 seconds RetCode: 0 Status: OK CheckDir: MethTargetedNGS.Rcheck Warnings: 0