Package: MethTargetedNGS Version: 1.36.0 Command: /home/biocbuild/R/R-beta-2024-04-15_r86425/bin/R CMD build --keep-empty-dirs --no-resave-data MethTargetedNGS StartedAt: 2024-05-09 01:31:33 -0000 (Thu, 09 May 2024) EndedAt: 2024-05-09 01:31:59 -0000 (Thu, 09 May 2024) EllapsedTime: 26.0 seconds RetCode: 0 Status: OK PackageFile: MethTargetedNGS_1.36.0.tar.gz PackageFileSize: 271.6 KiB