Package: MethTargetedNGS Version: 1.36.0 Command: /Library/Frameworks/R.framework/Resources/bin/R CMD build --keep-empty-dirs --no-resave-data MethTargetedNGS StartedAt: 2024-06-10 00:09:14 -0400 (Mon, 10 Jun 2024) EndedAt: 2024-06-10 00:09:58 -0400 (Mon, 10 Jun 2024) EllapsedTime: 44.1 seconds RetCode: 0 Status: OK PackageFile: MethTargetedNGS_1.36.0.tar.gz PackageFileSize: 282.5 KiB