Package: MethTargetedNGS Version: 1.36.0 Maintainer: Muhammad Ahmer Jamil MaintainerEmail: engr.ahmerjamil at gmail.com git_url: https://git.bioconductor.org/packages/MethTargetedNGS git_branch: RELEASE_3_19 git_last_commit: 31730f5 git_last_commit_date: 2024-04-30 10:43:15 -0400 (Tue, 30 Apr 2024)