Package: MethPed Version: 1.32.0 Command: /Library/Frameworks/R.framework/Resources/bin/R CMD check --install=check:MethPed.install-out.txt --library=/Library/Frameworks/R.framework/Resources/library --no-vignettes --timings MethPed_1.32.0.tar.gz StartedAt: 2024-06-09 21:24:55 -0400 (Sun, 09 Jun 2024) EndedAt: 2024-06-09 21:28:30 -0400 (Sun, 09 Jun 2024) EllapsedTime: 215.7 seconds RetCode: 0 Status: OK CheckDir: MethPed.Rcheck Warnings: 0