Package: MetaboSignal Version: 1.34.0 Command: E:\biocbuild\bbs-3.19-bioc\R\bin\R.exe CMD INSTALL MetaboSignal StartedAt: 2024-10-16 17:00:56 -0400 (Wed, 16 Oct 2024) EndedAt: 2024-10-16 17:02:08 -0400 (Wed, 16 Oct 2024) EllapsedTime: 72.7 seconds RetCode: 0 Status: OK