Package: MetaboSignal Version: 1.34.0 Command: F:\biocbuild\bbs-3.19-bioc\R\bin\R.exe CMD INSTALL MetaboSignal StartedAt: 2024-06-26 16:33:53 -0400 (Wed, 26 Jun 2024) EndedAt: 2024-06-26 16:35:38 -0400 (Wed, 26 Jun 2024) EllapsedTime: 105.3 seconds RetCode: 0 Status: OK