Package: MetaboSignal Version: 1.34.0 Command: rm -rf MetaboSignal.buildbin-libdir && mkdir MetaboSignal.buildbin-libdir && F:\biocbuild\bbs-3.19-bioc\R\bin\R.exe CMD INSTALL --build --library=MetaboSignal.buildbin-libdir MetaboSignal_1.34.0.tar.gz StartedAt: 2024-06-27 08:28:34 -0400 (Thu, 27 Jun 2024) EndedAt: 2024-06-27 08:29:39 -0400 (Thu, 27 Jun 2024) EllapsedTime: 65.6 seconds RetCode: 0 Status: OK PackageFile: MetaboSignal_1.34.0.zip PackageFileSize: 2.655 MiB