Package: MetaboSignal Version: 1.34.0 Command: /home/biocbuild/bbs-3.19-bioc/R/bin/R CMD build --keep-empty-dirs --no-resave-data MetaboSignal StartedAt: 2024-10-16 19:21:00 -0400 (Wed, 16 Oct 2024) EndedAt: 2024-10-16 19:22:48 -0400 (Wed, 16 Oct 2024) EllapsedTime: 108.2 seconds RetCode: 0 Status: OK PackageFile: MetaboSignal_1.34.0.tar.gz PackageFileSize: 2.089 MiB