Package: MetaboSignal Version: 1.34.0 Command: /Library/Frameworks/R.framework/Resources/bin/R CMD check --install=check:MetaboSignal.install-out.txt --library=/Library/Frameworks/R.framework/Resources/library --no-vignettes --timings MetaboSignal_1.34.0.tar.gz StartedAt: 2024-10-17 07:59:05 -0400 (Thu, 17 Oct 2024) EndedAt: 2024-10-17 08:24:35 -0400 (Thu, 17 Oct 2024) EllapsedTime: 1529.8 seconds RetCode: 0 Status: OK CheckDir: MetaboSignal.Rcheck Warnings: 0