Package: MetaboCoreUtils Version: 1.12.0 Command: chmod a+r MetaboCoreUtils -R && E:\biocbuild\bbs-3.19-bioc\R\bin\R.exe CMD build --keep-empty-dirs --no-resave-data MetaboCoreUtils StartedAt: 2024-10-16 20:09:41 -0400 (Wed, 16 Oct 2024) EndedAt: 2024-10-16 20:10:07 -0400 (Wed, 16 Oct 2024) EllapsedTime: 25.3 seconds RetCode: 0 Status: OK PackageFile: MetaboCoreUtils_1.12.0.tar.gz PackageFileSize: 712 KiB