Package: MetaboCoreUtils Version: 1.12.0 Command: /Library/Frameworks/R.framework/Resources/bin/R CMD build --keep-empty-dirs --no-resave-data MetaboCoreUtils StartedAt: 2024-10-16 20:39:06 -0400 (Wed, 16 Oct 2024) EndedAt: 2024-10-16 20:39:53 -0400 (Wed, 16 Oct 2024) EllapsedTime: 47.4 seconds RetCode: 0 Status: OK PackageFile: MetaboCoreUtils_1.12.0.tar.gz PackageFileSize: 1.001 MiB