Package: MetaboCoreUtils Version: 1.12.0 Command: rm -rf MetaboCoreUtils.buildbin-libdir && mkdir MetaboCoreUtils.buildbin-libdir && /Users/biocbuild/BBS/utils/build-universal.sh MetaboCoreUtils_1.12.0.tar.gz /Library/Frameworks/R.framework/Resources/bin/R MetaboCoreUtils.buildbin-libdir StartedAt: 2024-10-17 16:32:38 -0400 (Thu, 17 Oct 2024) EndedAt: 2024-10-17 16:32:54 -0400 (Thu, 17 Oct 2024) EllapsedTime: 16.2 seconds RetCode: 0 Status: OK PackageFile: MetaboCoreUtils_1.12.0.tgz PackageFileSize: 1.079 MiB