Package: MetaboCoreUtils Version: 1.12.0 Command: /Library/Frameworks/R.framework/Resources/bin/R CMD build --keep-empty-dirs --no-resave-data MetaboCoreUtils StartedAt: 2024-10-17 03:47:28 -0400 (Thu, 17 Oct 2024) EndedAt: 2024-10-17 03:47:48 -0400 (Thu, 17 Oct 2024) EllapsedTime: 20.1 seconds RetCode: 0 Status: OK PackageFile: MetaboCoreUtils_1.12.0.tar.gz PackageFileSize: 1.002 MiB