Package: MetaboAnnotation Version: 1.8.1 Command: E:\biocbuild\bbs-3.19-bioc\R\bin\R.exe CMD INSTALL MetaboAnnotation StartedAt: 2024-10-16 17:15:37 -0400 (Wed, 16 Oct 2024) EndedAt: 2024-10-16 17:17:00 -0400 (Wed, 16 Oct 2024) EllapsedTime: 82.4 seconds RetCode: 0 Status: OK