Package: MetaboAnnotation Version: 1.8.1 Command: rm -rf MetaboAnnotation.buildbin-libdir && mkdir MetaboAnnotation.buildbin-libdir && E:\biocbuild\bbs-3.19-bioc\R\bin\R.exe CMD INSTALL --build --library=MetaboAnnotation.buildbin-libdir MetaboAnnotation_1.8.1.tar.gz StartedAt: 2024-10-17 08:06:12 -0400 (Thu, 17 Oct 2024) EndedAt: 2024-10-17 08:08:07 -0400 (Thu, 17 Oct 2024) EllapsedTime: 114.4 seconds RetCode: 0 Status: OK PackageFile: MetaboAnnotation_1.8.1.zip PackageFileSize: 1.676 MiB