Package: MetaboAnnotation Version: 1.8.1 Command: chmod a+r MetaboAnnotation -R && F:\biocbuild\bbs-3.19-bioc\R\bin\R.exe CMD build --keep-empty-dirs --no-resave-data MetaboAnnotation StartedAt: 2024-06-26 19:54:43 -0400 (Wed, 26 Jun 2024) EndedAt: 2024-06-26 19:57:46 -0400 (Wed, 26 Jun 2024) EllapsedTime: 183.4 seconds RetCode: 0 Status: OK PackageFile: MetaboAnnotation_1.8.1.tar.gz PackageFileSize: 1.183 MiB