Package: MetaboAnnotation Version: 1.8.1 Command: rm -rf MetaboAnnotation.buildbin-libdir && mkdir MetaboAnnotation.buildbin-libdir && F:\biocbuild\bbs-3.19-bioc\R\bin\R.exe CMD INSTALL --build --library=MetaboAnnotation.buildbin-libdir MetaboAnnotation_1.8.1.tar.gz StartedAt: 2024-06-27 08:28:26 -0400 (Thu, 27 Jun 2024) EndedAt: 2024-06-27 08:29:30 -0400 (Thu, 27 Jun 2024) EllapsedTime: 64.1 seconds RetCode: 0 Status: OK PackageFile: MetaboAnnotation_1.8.1.zip PackageFileSize: 1.676 MiB