Package: MetaboAnnotation Version: 1.8.1 Command: /home/biocbuild/bbs-3.19-bioc/R/bin/R CMD check --install=check:MetaboAnnotation.install-out.txt --library=/home/biocbuild/bbs-3.19-bioc/R/site-library --timings MetaboAnnotation_1.8.1.tar.gz StartedAt: 2024-10-17 02:11:01 -0400 (Thu, 17 Oct 2024) EndedAt: 2024-10-17 02:17:10 -0400 (Thu, 17 Oct 2024) EllapsedTime: 369.8 seconds RetCode: 0 Status: OK CheckDir: MetaboAnnotation.Rcheck Warnings: 0