Package: MetaboAnnotation Version: 1.8.1 Command: /home/biocbuild/bbs-3.19-bioc/R/bin/R CMD build --keep-empty-dirs --no-resave-data MetaboAnnotation StartedAt: 2024-10-16 19:20:47 -0400 (Wed, 16 Oct 2024) EndedAt: 2024-10-16 19:22:19 -0400 (Wed, 16 Oct 2024) EllapsedTime: 92.2 seconds RetCode: 0 Status: OK PackageFile: MetaboAnnotation_1.8.1.tar.gz PackageFileSize: 1.216 MiB