Package: MetaboAnnotation Version: 1.8.1 Command: /Library/Frameworks/R.framework/Resources/bin/R CMD check --install=check:MetaboAnnotation.install-out.txt --library=/Library/Frameworks/R.framework/Resources/library --no-vignettes --timings MetaboAnnotation_1.8.1.tar.gz StartedAt: 2024-10-17 07:53:58 -0400 (Thu, 17 Oct 2024) EndedAt: 2024-10-17 08:18:00 -0400 (Thu, 17 Oct 2024) EllapsedTime: 1442.2 seconds RetCode: 0 Status: OK CheckDir: MetaboAnnotation.Rcheck Warnings: 0