Package: MetaboAnnotation Version: 1.8.1 Command: /Library/Frameworks/R.framework/Resources/bin/R CMD build --keep-empty-dirs --no-resave-data MetaboAnnotation StartedAt: 2024-10-16 20:38:48 -0400 (Wed, 16 Oct 2024) EndedAt: 2024-10-16 20:43:01 -0400 (Wed, 16 Oct 2024) EllapsedTime: 253.1 seconds RetCode: 0 Status: OK PackageFile: MetaboAnnotation_1.8.1.tar.gz PackageFileSize: 1.247 MiB