Package: MetaboAnnotation Version: 1.8.1 Command: rm -rf MetaboAnnotation.buildbin-libdir && mkdir MetaboAnnotation.buildbin-libdir && /Users/biocbuild/BBS/utils/build-universal.sh MetaboAnnotation_1.8.1.tar.gz /Library/Frameworks/R.framework/Resources/bin/R MetaboAnnotation.buildbin-libdir StartedAt: 2024-06-10 00:25:59 -0400 (Mon, 10 Jun 2024) EndedAt: 2024-06-10 00:26:55 -0400 (Mon, 10 Jun 2024) EllapsedTime: 56.5 seconds RetCode: 0 Status: OK PackageFile: MetaboAnnotation_1.8.1.tgz PackageFileSize: 1.743 MiB