Package: MetaboAnnotation Version: 1.8.0 Command: /home/biocbuild/R/R-beta-2024-04-15_r86425/bin/R CMD INSTALL MetaboAnnotation StartedAt: 2024-05-08 21:02:03 -0000 (Wed, 08 May 2024) EndedAt: 2024-05-08 21:02:57 -0000 (Wed, 08 May 2024) EllapsedTime: 53.9 seconds RetCode: 0 Status: OK