Package: MetaboAnnotation Version: 1.8.0 Command: /home/biocbuild/R/R-beta-2024-04-15_r86425/bin/R CMD build --keep-empty-dirs --no-resave-data MetaboAnnotation StartedAt: 2024-05-09 01:27:17 -0000 (Thu, 09 May 2024) EndedAt: 2024-05-09 01:29:32 -0000 (Thu, 09 May 2024) EllapsedTime: 135.2 seconds RetCode: 0 Status: OK PackageFile: MetaboAnnotation_1.8.0.tar.gz PackageFileSize: 1.252 MiB