Package: MetaboAnnotation Version: 1.8.1 Command: /Library/Frameworks/R.framework/Resources/bin/R CMD check --install=check:MetaboAnnotation.install-out.txt --library=/Library/Frameworks/R.framework/Resources/library --no-vignettes --timings MetaboAnnotation_1.8.1.tar.gz StartedAt: 2024-06-10 21:05:42 -0400 (Mon, 10 Jun 2024) EndedAt: 2024-06-10 21:15:35 -0400 (Mon, 10 Jun 2024) EllapsedTime: 592.6 seconds RetCode: 0 Status: OK CheckDir: MetaboAnnotation.Rcheck Warnings: 0