Package: MetaboAnnotation Version: 1.8.1 Command: /Library/Frameworks/R.framework/Resources/bin/R CMD build --keep-empty-dirs --no-resave-data MetaboAnnotation StartedAt: 2024-06-10 00:00:04 -0400 (Mon, 10 Jun 2024) EndedAt: 2024-06-10 00:02:54 -0400 (Mon, 10 Jun 2024) EllapsedTime: 169.7 seconds RetCode: 0 Status: OK PackageFile: MetaboAnnotation_1.8.1.tar.gz PackageFileSize: 1.248 MiB