Package: MetaboAnnotation Version: 1.8.1 Command: /Library/Frameworks/R.framework/Resources/bin/R CMD build --keep-empty-dirs --no-resave-data MetaboAnnotation StartedAt: 2024-10-17 03:47:15 -0400 (Thu, 17 Oct 2024) EndedAt: 2024-10-17 03:49:26 -0400 (Thu, 17 Oct 2024) EllapsedTime: 131.4 seconds RetCode: 0 Status: OK PackageFile: MetaboAnnotation_1.8.1.tar.gz PackageFileSize: 1.248 MiB