Package: MetaVolcanoR Version: 1.18.0 Command: E:\biocbuild\bbs-3.19-bioc\R\bin\R.exe CMD check --no-multiarch --install=check:MetaVolcanoR.install-out.txt --library=E:\biocbuild\bbs-3.19-bioc\R\library --no-vignettes --timings MetaVolcanoR_1.18.0.tar.gz StartedAt: 2024-10-17 03:08:07 -0400 (Thu, 17 Oct 2024) EndedAt: 2024-10-17 03:12:19 -0400 (Thu, 17 Oct 2024) EllapsedTime: 252.0 seconds RetCode: 0 Status: OK CheckDir: MetaVolcanoR.Rcheck Warnings: 0