Package: MetaVolcanoR Version: 1.18.0 Command: /Library/Frameworks/R.framework/Resources/bin/R CMD INSTALL MetaVolcanoR StartedAt: 2024-06-09 15:36:44 -0400 (Sun, 09 Jun 2024) EndedAt: 2024-06-09 15:36:52 -0400 (Sun, 09 Jun 2024) EllapsedTime: 7.5 seconds RetCode: 0 Status: OK