Package: MetaVolcanoR Version: 1.18.0 Command: /home/biocbuild/R/R-beta-2024-04-15_r86425/bin/R CMD build --keep-empty-dirs --no-resave-data MetaVolcanoR StartedAt: 2024-05-09 01:29:45 -0000 (Thu, 09 May 2024) EndedAt: 2024-05-09 01:32:50 -0000 (Thu, 09 May 2024) EllapsedTime: 184.2 seconds RetCode: 0 Status: OK PackageFile: MetaVolcanoR_1.18.0.tar.gz PackageFileSize: 1.767 MiB