Package: MetaVolcanoR Version: 1.18.0 Command: /Library/Frameworks/R.framework/Resources/bin/R CMD build --keep-empty-dirs --no-resave-data MetaVolcanoR StartedAt: 2024-10-17 03:53:06 -0400 (Thu, 17 Oct 2024) EndedAt: 2024-10-17 03:55:48 -0400 (Thu, 17 Oct 2024) EllapsedTime: 162.3 seconds RetCode: 0 Status: OK PackageFile: MetaVolcanoR_1.18.0.tar.gz PackageFileSize: 2.061 MiB