Package: MetaPhOR Version: 1.6.0 Command: E:\biocbuild\bbs-3.19-bioc\R\bin\R.exe CMD INSTALL MetaPhOR StartedAt: 2024-10-16 17:08:17 -0400 (Wed, 16 Oct 2024) EndedAt: 2024-10-16 17:08:47 -0400 (Wed, 16 Oct 2024) EllapsedTime: 30.6 seconds RetCode: 0 Status: OK