Package: MetaPhOR Version: 1.6.0 Command: rm -rf MetaPhOR.buildbin-libdir && mkdir MetaPhOR.buildbin-libdir && E:\biocbuild\bbs-3.19-bioc\R\bin\R.exe CMD INSTALL --build --library=MetaPhOR.buildbin-libdir MetaPhOR_1.6.0.tar.gz StartedAt: 2024-10-17 08:06:36 -0400 (Thu, 17 Oct 2024) EndedAt: 2024-10-17 08:07:13 -0400 (Thu, 17 Oct 2024) EllapsedTime: 36.5 seconds RetCode: 0 Status: OK PackageFile: MetaPhOR_1.6.0.zip PackageFileSize: 2.209 MiB