Package: MetaPhOR Version: 1.6.0 Command: /Library/Frameworks/R.framework/Resources/bin/R CMD INSTALL MetaPhOR StartedAt: 2024-10-16 16:31:46 -0400 (Wed, 16 Oct 2024) EndedAt: 2024-10-16 16:32:43 -0400 (Wed, 16 Oct 2024) EllapsedTime: 57.4 seconds RetCode: 0 Status: OK