Package: MetaPhOR Version: 1.6.0 Command: /Library/Frameworks/R.framework/Resources/bin/R CMD build --keep-empty-dirs --no-resave-data MetaPhOR StartedAt: 2024-10-16 20:40:45 -0400 (Wed, 16 Oct 2024) EndedAt: 2024-10-16 21:20:46 -0400 (Wed, 16 Oct 2024) EllapsedTime: 2400.9 seconds RetCode: None Status: TIMEOUT PackageFile: None PackageFileSize: NA