Package: MetaPhOR Version: 1.6.0 Command: /Library/Frameworks/R.framework/Resources/bin/R CMD INSTALL MetaPhOR StartedAt: 2024-10-16 18:19:02 -0400 (Wed, 16 Oct 2024) EndedAt: 2024-10-16 18:19:31 -0400 (Wed, 16 Oct 2024) EllapsedTime: 28.8 seconds RetCode: 0 Status: OK