Package: MetaPhOR Version: 1.6.0 Command: /Library/Frameworks/R.framework/Resources/bin/R CMD build --keep-empty-dirs --no-resave-data MetaPhOR StartedAt: 2024-10-17 03:51:58 -0400 (Thu, 17 Oct 2024) EndedAt: 2024-10-17 04:11:43 -0400 (Thu, 17 Oct 2024) EllapsedTime: 1185.3 seconds RetCode: 0 Status: OK PackageFile: MetaPhOR_1.6.0.tar.gz PackageFileSize: 2.744 MiB