Package: MetaCyto Version: 1.26.0 Command: F:\biocbuild\bbs-3.19-bioc\R\bin\R.exe CMD INSTALL MetaCyto StartedAt: 2024-06-26 16:50:46 -0400 (Wed, 26 Jun 2024) EndedAt: 2024-06-26 16:51:07 -0400 (Wed, 26 Jun 2024) EllapsedTime: 20.6 seconds RetCode: 0 Status: OK