Package: MetNet Version: 1.22.0 Command: /Library/Frameworks/R.framework/Resources/bin/R CMD check --install=check:MetNet.install-out.txt --library=/Library/Frameworks/R.framework/Resources/library --no-vignettes --timings MetNet_1.22.0.tar.gz StartedAt: 2024-06-10 21:42:36 -0400 (Mon, 10 Jun 2024) EndedAt: 2024-06-10 21:52:51 -0400 (Mon, 10 Jun 2024) EllapsedTime: 614.9 seconds RetCode: 0 Status: OK CheckDir: MetNet.Rcheck Warnings: 0