Package: MetNet Version: 1.22.0 Maintainer: Thomas Naake MaintainerEmail: thomasnaake at googlemail.com git_url: https://git.bioconductor.org/packages/MetNet git_branch: RELEASE_3_19 git_last_commit: b5b47c3 git_last_commit_date: 2024-04-30 11:08:30 -0400 (Tue, 30 Apr 2024)