Package: MetID Version: 1.22.0 Command: rm -rf MetID.buildbin-libdir && mkdir MetID.buildbin-libdir && E:\biocbuild\bbs-3.19-bioc\R\bin\R.exe CMD INSTALL --build --library=MetID.buildbin-libdir MetID_1.22.0.tar.gz StartedAt: 2024-10-17 08:07:37 -0400 (Thu, 17 Oct 2024) EndedAt: 2024-10-17 08:07:56 -0400 (Thu, 17 Oct 2024) EllapsedTime: 18.5 seconds RetCode: 0 Status: OK PackageFile: MetID_1.22.0.zip PackageFileSize: 1.736 MiB