Package: MetID Version: 1.22.0 Command: /home/biocbuild/bbs-3.19-bioc/R/bin/R CMD build --keep-empty-dirs --no-resave-data MetID StartedAt: 2024-10-16 19:26:01 -0400 (Wed, 16 Oct 2024) EndedAt: 2024-10-16 19:26:30 -0400 (Wed, 16 Oct 2024) EllapsedTime: 29.0 seconds RetCode: 0 Status: OK PackageFile: MetID_1.22.0.tar.gz PackageFileSize: 1.504 MiB