Package: MetID Version: 1.22.0 Command: /Library/Frameworks/R.framework/Resources/bin/R CMD check --install=check:MetID.install-out.txt --library=/Library/Frameworks/R.framework/Resources/library --no-vignettes --timings MetID_1.22.0.tar.gz StartedAt: 2024-10-17 08:21:37 -0400 (Thu, 17 Oct 2024) EndedAt: 2024-10-17 08:25:17 -0400 (Thu, 17 Oct 2024) EllapsedTime: 220.5 seconds RetCode: 0 Status: OK CheckDir: MetID.Rcheck Warnings: 0