Package: MetID Version: 1.22.0 Command: /Library/Frameworks/R.framework/Resources/bin/R CMD build --keep-empty-dirs --no-resave-data MetID StartedAt: 2024-06-09 17:14:38 -0400 (Sun, 09 Jun 2024) EndedAt: 2024-06-09 17:15:10 -0400 (Sun, 09 Jun 2024) EllapsedTime: 31.6 seconds RetCode: 0 Status: OK PackageFile: MetID_1.22.0.tar.gz PackageFileSize: 1.504 MiB