Package: MetID Version: 1.22.0 Command: /home/biocbuild/R/R-beta-2024-04-15_r86425/bin/R CMD check --install=check:MetID.install-out.txt --library=/home/biocbuild/R/R-beta-2024-04-15_r86425/site-library --no-vignettes --timings MetID_1.22.0.tar.gz StartedAt: 2024-05-09 09:20:03 -0000 (Thu, 09 May 2024) EndedAt: 2024-05-09 09:21:55 -0000 (Thu, 09 May 2024) EllapsedTime: 112.2 seconds RetCode: 0 Status: OK CheckDir: MetID.Rcheck Warnings: 0