Package: MetID Version: 1.22.0 Command: /Library/Frameworks/R.framework/Resources/bin/R CMD build --keep-empty-dirs --no-resave-data MetID StartedAt: 2024-10-17 04:19:42 -0400 (Thu, 17 Oct 2024) EndedAt: 2024-10-17 04:20:16 -0400 (Thu, 17 Oct 2024) EllapsedTime: 33.9 seconds RetCode: 0 Status: OK PackageFile: MetID_1.22.0.tar.gz PackageFileSize: 1.504 MiB